BEGIN:VCALENDAR
VERSION:2.0
PRODID:-//Mirage-Verein Buochs//NONSGML kigkonsult.se iCalcreator 2.16.12//
METHOD:PUBLISH
X-MS-OLK-FORCEINSPECTOROPEN:TRUE
BEGIN:VEVENT
UID:20260422T140754CEST-6554fZnmts@Mirage-Verein Buochs
DTSTAMP:20260422T120754Z
DESCRIPTION:Am Samstag\, den 29. Juni\, steht ein weiterer Arbeitstag an. E
 s werden wieder diverse Arbeiten durchgeführt.\n\nDamit wir den Anlass opt
 imal planen können\, bitten wir die Teilnehmer\, sich bis spätestens am So
 nntag\, 23. Juni anzumelden.\nBitte tragt euch einfach in dieser Doodle Um
 frage ein https://doodle.com/poll/bqe284e3pxsyy8pg\n\nArbeitsbeginn ist wi
 e immer um 09.00 Uhr.
DTSTART:20190629T090000
DTEND:20190629T160000
LOCATION:Bremshaus
ORGANIZER:MAILTO:Mirage-Verein Buochs <info@mirage-buochs.ch>
SUMMARY:2. Arbeitstag 2019
END:VEVENT
END:VCALENDAR
