BEGIN:VCALENDAR
VERSION:2.0
PRODID:-//Mirage-Verein Buochs//NONSGML kigkonsult.se iCalcreator 2.16.12//
METHOD:PUBLISH
X-MS-OLK-FORCEINSPECTOROPEN:TRUE
BEGIN:VEVENT
UID:20260422T140842CEST-3868PHhMrw@Mirage-Verein Buochs
DTSTAMP:20260422T120842Z
DESCRIPTION:Am Samstag\, den 21. September\, steht ein weiterer Arbeitstag 
 an. Es werden wieder diverse Arbeiten durchgeführt.\n\nDamit wir den Anlas
 s optimal planen können\, bitten wir die Teilnehmer\, sich bis spätestens 
 am Sonntag\, 15. September anzumelden.\nBitte tragt euch einfach in dieser
  Doodle Umfrage ein https://doodle.com/poll/xi5xsyh9qxcakssh\n\nArbeitsbeg
 inn ist wie immer um 09.00 Uhr.\n
DTSTART:20190921T090000
DTEND:20190921T160000
LOCATION:Buochs
ORGANIZER:MAILTO:Mirage-Verein Buochs <info@mirage-buochs.ch>
SUMMARY:3. Arbeitstag 2019 (Anmeldung freigeschaltet!)
END:VEVENT
END:VCALENDAR
