BEGIN:VCALENDAR
VERSION:2.0
PRODID:-//Mirage-Verein Buochs//NONSGML kigkonsult.se iCalcreator 2.16.12//
METHOD:PUBLISH
X-MS-OLK-FORCEINSPECTOROPEN:TRUE
BEGIN:VEVENT
UID:20260422T141008CEST-0901zNgGJV@Mirage-Verein Buochs
DTSTAMP:20260422T121008Z
DESCRIPTION:Am Donnerstag\, 11. Juli findet wieder ein Triebwerklauf unsere
 r Mirage R-2109 im Bremshaus Buochs statt. Um 18.00 Uhr sind alle Mitglied
 er die Lust und Laune haben\, dazu eingeladen.
DTSTART:20190711T180000
DTEND:20190711T193000
LOCATION:Buochs
ORGANIZER:MAILTO:Mirage-Verein Buochs <info@mirage-buochs.ch>
SUMMARY:periodischer TW-Lauf
END:VEVENT
END:VCALENDAR
