BEGIN:VCALENDAR
VERSION:2.0
PRODID:-//Mirage-Verein Buochs//NONSGML kigkonsult.se iCalcreator 2.16.12//
METHOD:PUBLISH
X-MS-OLK-FORCEINSPECTOROPEN:TRUE
BEGIN:VEVENT
UID:20260422T140927CEST-3817CJZ5pb@Mirage-Verein Buochs
DTSTAMP:20260422T120927Z
DESCRIPTION:Am Samstag\, den 16. November\, steht ein weiterer Arbeitstag a
 n.\n\nAnschliessend werden wir auch dieses Jahr unsere erfolgreichen Mitgl
 iederanlässe mit einem feinen Raclette abschliessen.\nDamit wir den Anlass
  optimal planen können\, bitten wir die Teilnehmer\, sich bis spätestens a
 m Sonntag\, 10. November 2019 anzumelden.\n\nTeilnehmer tragt sich einfach
  in dieser Doodle Umfrage ein https://doodle.com/poll/zbrugucmnz5enwps \n
 \nBesten Dank und hoffentlich bis im November!
DTSTART:20191116T090000
DTEND:20191116T160000
LOCATION:Brem
ORGANIZER:MAILTO:Mirage-Verein Buochs <info@mirage-buochs.ch>
SUMMARY:4. Arbeitstag 2019
END:VEVENT
END:VCALENDAR
