BEGIN:VCALENDAR
VERSION:2.0
PRODID:-//Mirage-Verein Buochs//NONSGML kigkonsult.se iCalcreator 2.16.12//
METHOD:PUBLISH
X-MS-OLK-FORCEINSPECTOROPEN:TRUE
BEGIN:VEVENT
UID:20260422T141050CEST-8185MuIKAp@Mirage-Verein Buochs
DTSTAMP:20260422T121050Z
DESCRIPTION:Wie seit dem «Terminstopper» bereits bekannt\, hat unser diesjä
 hriger MVB-Herbstausflug das neu eröffnete «Fliegermuseum Fahrzeugmuseum A
 ltenrhein» (FFA) zum Ziel und zwar am Samstag\, 19. Oktober 2019.\n\n \n\n
  Flyer mit ausführlichem Programm und wichtigen Informationen.\n\n\nGerne 
 nehmen wir ab sofort Anmeldungen für die Teilnahme am 19.10.19 entgegen (b
 itte per Mail an u.wenger@bluewin.ch\,). Anmeldeschluss ist der Samstag\, 
 12. Oktober 2019\, 1800. Bitte auf der Anmeldungs-Mail angeben:\n \n\n- An
 zahl Teilnehmende mit Namen/Vornamen?\n\n- Anreise/Rückreise ab/zu welchem
  Ort? Per Pw oder per öV?\n\n- Allfällige Mitfahrmöglichkeit angeboten (Pl
 ätze?) resp. Mitfahrmöglichkeit gesucht?\n\n- Teilnahme am Mittagessen? We
 nn ja\, Menü «Fisch» oder «Fleisch»?\n\n- Allenfalls direkte Anreise zum R
 estaurant Jägerhaus auf 1215 oder zum Museum auf 1345?\n\n(Darf ich die 9 
 Personen\, welche sich für eine Teilnahme schon gemeldet haben bitten\, mi
 r nochmals eine Mail mit den Details zu senden? Danke.)\n \n\nFür ergänzen
 de Auskünfte stehe ich gerne zur Verfügung u.wenger@bluewin.ch oder 079 34
 0 69 64)\n \n\nWir vom MVB-Vorstand freuen uns auf den gemeinsamen Tag unt
 er Freunden in Altenrhein und auch auf die rege Teilnahme unserer Mitglied
 er.\n \n\nFreundliche Grüsse\nMirage-Verein Buochs\n
DTSTART:20191019T000000
DTEND:20191019T000000
LOCATION:Altenrhein
ORGANIZER:MAILTO:Mirage-Verein Buochs <info@mirage-buochs.ch>
SUMMARY:Herbstausflug / jetzt Anmelden
END:VEVENT
END:VCALENDAR
