BEGIN:VCALENDAR
VERSION:2.0
PRODID:-//Mirage-Verein Buochs//NONSGML kigkonsult.se iCalcreator 2.16.12//
METHOD:PUBLISH
X-MS-OLK-FORCEINSPECTOROPEN:TRUE
BEGIN:VEVENT
UID:20260422T140928CEST-81702s73Ai@Mirage-Verein Buochs
DTSTAMP:20260422T120928Z
DESCRIPTION:Liebes Vereinsmitglied\n \n\nWegen des Coronavirus wird der Arb
 eitstag vom 28.03.2020 abgesagt. Die Mitgliederversammlung vom 04.04.2020 
 findet ebenfalls nicht statt. Diese wird auf einen späteren Zeitpunkt\, So
 mmer/Herbst\, verschoben.\nWann diese Events durchgeführt werden\, ist noc
 h offen. Wir werden euch rechtzeitig informieren.\n \n\nWir bedauern sehr\
 , diese Veranstaltungen absagen und verschieben zu müssen. Wir legen die P
 riorität auf die Gesundheit der Mitglieder und auf die Empfehlungen des Bu
 ndes und des Kanton NW.\n \n\nWir bedanken uns für euer Verständnis.\n \n
 \nFreundliche Grüsse\nVorstand Mirage-Verein Buochs\n
DTSTART:20200404T100000
DTEND:20200404T120000
ORGANIZER:MAILTO:Mirage-Verein Buochs <info@mirage-buochs.ch>
SUMMARY:Mitgliederversammlung - ABGESAGT
END:VEVENT
END:VCALENDAR
