BEGIN:VCALENDAR
VERSION:2.0
PRODID:-//Mirage-Verein Buochs//NONSGML kigkonsult.se iCalcreator 2.16.12//
METHOD:PUBLISH
X-MS-OLK-FORCEINSPECTOROPEN:TRUE
BEGIN:VEVENT
UID:20260422T140921CEST-0731BCJkAn@Mirage-Verein Buochs
DTSTAMP:20260422T120921Z
DESCRIPTION:Am Samstag\, den 27. Juni\, steht ein Arbeitstag an. Es werden 
 wieder diverse Arbeiten durchgeführt.\n\n\n	Wir führen den Arbeitstag als „
 Ansammlungen von bis zu 30 Personen“ gemäss 'COVID-19-Verordnung 2' Art. 7
  Abs. 2 vom 27. Mai 2020 durch und halten die entsprechenden Hygienevorsch
 riften ein.\n	Da wir den Abstand von 2 m evtl. kurzzeitig unterschreiten mü
 ssen (z.B. Heben von Kisten zu zweit) und um auch Risikopersonen eine ange
 messene Teilnahme zu ermöglichen\, tragen alle Teilnehmer Gesichtsmasken\,
  die vom MVB bereitgestellt werden.\n\n\nDamit wir den Anlass optimal plan
 en können\, bitten wir die Teilnehmer\, sich bis spätestens am Sonntag\, 2
 1. Juni anzumelden.\n\nBitte tragt euch einfach in dieser Doodle Umfrage e
 in https://doodle.com/poll/gwbizcz5gkdfaap6\n\n\nArbeitsbeginn ist wie imm
 er um 09.00 Uhr.\n
DTSTART:20200627T090000
DTEND:20200627T160000
LOCATION:Bremshaus
ORGANIZER:MAILTO:Mirage-Verein Buochs <info@mirage-buochs.ch>
SUMMARY:Arbeitstag
END:VEVENT
END:VCALENDAR
