BEGIN:VCALENDAR
VERSION:2.0
PRODID:-//Mirage-Verein Buochs//NONSGML kigkonsult.se iCalcreator 2.16.12//
METHOD:PUBLISH
X-MS-OLK-FORCEINSPECTOROPEN:TRUE
BEGIN:VEVENT
UID:20260422T140755CEST-6512O0vJHB@Mirage-Verein Buochs
DTSTAMP:20260422T120755Z
DESCRIPTION:Traktanden:\n1. Begrüssung Vorstellung Vorstand\n2. Wahl der St
 immenzähler\n3. Protokoll der Mitgliederversammlung vom  06.04.19\n4. Jahr
 esberichte:\n\n	des Präsidenten\n	des Technischen Chefs\n	des ChefsInfrastruk
 tur\n	des Archivars\n	des Kurators\n	des Kassiers\n	der Revisoren  /Entlastung
  der Organe\n\n5. Wahlen\n6. Budgetund / Festsetzung Jahresbeitrag\n7. Vor
 schlag Jahresprogramm 2020\n8. Varia\n\nWeiter Informationen\n\nDer Präsid
 ent\nFerdinand Meyer
DTSTART:20200829T100000
DTEND:20200829T120000
LOCATION:Personalrestaurant „Cockpit“ der RUAG Aviation
ORGANIZER:MAILTO:Mirage-Verein Buochs <info@mirage-buochs.ch>
SUMMARY:Ordentliche Mitgliederversammlung 2019
END:VEVENT
END:VCALENDAR
