BEGIN:VCALENDAR
VERSION:2.0
PRODID:-//Mirage-Verein Buochs//NONSGML kigkonsult.se iCalcreator 2.16.12//
METHOD:PUBLISH
X-MS-OLK-FORCEINSPECTOROPEN:TRUE
BEGIN:VEVENT
UID:20260422T140917CEST-6076rOJsPz@Mirage-Verein Buochs
DTSTAMP:20260422T120917Z
DESCRIPTION:Am Samstag\, den 26. September\, steht ein Arbeitstag an. Es we
 rden wieder diverse Arbeiten durchgeführt.\n\nDamit wir den Anlass optimal
  planen können\, bitten wir die Teilnehmer\, sich bis spätestens am Sonnta
 g\, 20. September anzumelden.\n\nAnmeldung unter nachfolgendem Link. https
 ://doodle.com/poll/uzn3xnxsychfahgq\n\nArbeitsbeginn ist wie immer um 09.0
 0 Uhr.
DTSTART:20200926T090000
DTEND:20200926T160000
LOCATION:Bremshaus
ORGANIZER:MAILTO:Mirage-Verein Buochs <info@mirage-buochs.ch>
SUMMARY:Arbeitstag
END:VEVENT
END:VCALENDAR
