BEGIN:VCALENDAR
VERSION:2.0
PRODID:-//Mirage-Verein Buochs//NONSGML kigkonsult.se iCalcreator 2.16.12//
METHOD:PUBLISH
X-MS-OLK-FORCEINSPECTOROPEN:TRUE
BEGIN:VEVENT
UID:20260422T140920CEST-7714BaU16B@Mirage-Verein Buochs
DTSTAMP:20260422T120920Z
DESCRIPTION:Auf Grund der aktuellen Lage müssen wir schweren Herzens den le
 tzten Arbeitstag des Jahres absagen.\n\nBesten Dank für euer Verständnis.
 \n\nMit fliegerischen Grüssen\nMirage-Verein Buochs
DTSTART:20201121T000000
DTEND:20201121T235900
ORGANIZER:MAILTO:Mirage-Verein Buochs <info@mirage-buochs.ch>
SUMMARY:3. Arbeitstag 2020 ABGESAGT
END:VEVENT
END:VCALENDAR
