BEGIN:VCALENDAR
VERSION:2.0
PRODID:-//Mirage-Verein Buochs//NONSGML kigkonsult.se iCalcreator 2.16.12//
METHOD:PUBLISH
X-MS-OLK-FORCEINSPECTOROPEN:TRUE
BEGIN:VEVENT
UID:20260422T141043CEST-00788IRv7Z@Mirage-Verein Buochs
DTSTAMP:20260422T121043Z
DESCRIPTION:Einladung zur ordentlichen Mitgliederversammlung 2020 Samstag 1
 9. Juni 2021\, 1000h \n\nPersonalrestaurant «Cockpit» der RUAG Aviation\, 
 Flugplatz Buochs\n\nLiebe MIRAGE Freundin\, lieber MIRAGE Freund\n\nWir fr
 euen uns\, Sie zur Mitgliederversammlung des Vereinsjahres 2020 einladen z
 u dürfen.\nTraktanden: \n1. Begrüssung\, Vorstellung Vorstand\n2. Wahl der
  Stimmenzähler\n3. Protokoll der Mitgliederversammlung 2019 vom 29. August
  2020\n4. Jahresberichte \n    des Präsidenten\n    des Technischen Chefs
 \n    des Chefs Infrastruktur\n    des Event Managers\n    des Archivars\n
     des Kurators\n    des Kassiers\n    der Revisoren / Entlastung der Org
 ane\n5. Wahlen\n6. Budget und Festsetzung Jahresbeitrag\n7. Vorschlag Jahr
 esprogramm 2021\n8. Varia\nAnträge an die Mitgliederversammlung sind späte
 stens bis 25. Mai 2021 an den Präsidenten zu richten.\n\nReferat: «Die Ges
 chichte des Fliegerschiessplatzes Axalp» / Markus Rieder\, Autor des exklu
 siven Bildbandes «Cleard Hot»\, wird über den Fliegerschiessplatz Axalp re
 ferieren – von der C-35 zur F/A-18! Seine Ausführungen umfassen die Bedeut
 ung des Fliegerschiessplatzes im Berner Oberland während dem Kalten Krieg 
 und ebenso die legendären Auftritte der Mirage über dem Schiessgelände.\n
 \nVerpflegung: Für Verpflegung im Restaurant «Cockpit»\, offen ab 0930h\, 
 ist gesorgt. Mittagessen nach der Mitgliederversammlung.\nNachmittag: Im B
 remshaus stellen wir auf der Axalp eingesetzte Waffen\, Zielgeräte und Zub
 ehör aus.\nAnreise: Der Parkplatz vor dem Restaurant Cockpit ist für unser
 e Gäste reserviert.\n\nBeachten Sie auch die Informationen zur Mitgliederv
 ersammlung auf www.mirage-buochs.ch. Falls die Mitgliederversammlung vom 1
 9. Juni 2021 Corona-bedingt abgesagt werden muss\, so reservieren Sie sich
  bitte das Ausweichdatum vom Samstag\, 25. September 2021. Aus Kostengründ
 en wird keine erneute Einladung mehr verschickt.\n\nDer Präsident Ferdinan
 d Meyer
DTSTART:20210619T000000
DTEND:20210619T235900
LOCATION:Buochs
ORGANIZER:MAILTO:Mirage-Verein Buochs <info@mirage-buochs.ch>
SUMMARY:Mitgliederversammlung
END:VEVENT
END:VCALENDAR
