BEGIN:VCALENDAR
VERSION:2.0
PRODID:-//Mirage-Verein Buochs//NONSGML kigkonsult.se iCalcreator 2.16.12//
METHOD:PUBLISH
X-MS-OLK-FORCEINSPECTOROPEN:TRUE
BEGIN:VEVENT
UID:20260422T141044CEST-4591sgfEh4@Mirage-Verein Buochs
DTSTAMP:20260422T121044Z
DESCRIPTION:Ob der Arbeitstag stattfindet\, wird jeweils gemäss aktueller C
 ovid Situation entschieden. Angemeldete informieren sich bitte via Homepag
 e über die Durchführung. Sollte eine Begrenzung der Teilnehmer nötig sein\
 , erfolgt die Zuteilung gemäss Anmeldungseingang.\nDamit wir den Anlass op
 timal planen können\, bitten wir die Teilnehmer\, sich bis spätestens am S
 onntag\, 2. Mai anzumelden.\n\nBitte tragt euch einfach in dieser Doodle U
 mfrage ein\nhttps://doodle.com/poll/b3zx33smrpxkszan?utm_source=poll&utm_m
 edium=link\n\nArbeitsbeginn ist wie immer um 09.00 Uhr.
DTSTART:20210508T090000
DTEND:20210508T160000
LOCATION:Bremshaus
ORGANIZER:MAILTO:Mirage-Verein Buochs <info@mirage-buochs.ch>
SUMMARY:Arbeitstag 1
END:VEVENT
END:VCALENDAR
