BEGIN:VCALENDAR
VERSION:2.0
PRODID:-//Mirage-Verein Buochs//NONSGML kigkonsult.se iCalcreator 2.16.12//
METHOD:PUBLISH
X-MS-OLK-FORCEINSPECTOROPEN:TRUE
BEGIN:VEVENT
UID:20260422T141108CEST-1917DUggdM@Mirage-Verein Buochs
DTSTAMP:20260422T121108Z
DESCRIPTION:Damit wir den Anlass optimal planen können\, bitten wir die Tei
 lnehmer\, sich bis spätestens am Sonntag\, 31. Juli anzumelden.\n\nBitte t
 ragt euch einfach in dieser Doodle Umfrage ein\nhttps://doodle.com/poll/4u
 y27fe6kynegv9z?utm_source=poll&utm_medium=link\n\nArbeitsbeginn ist wie im
 mer um 09.00 Uhr.
DTSTART:20210807T090000
DTEND:20210807T160000
LOCATION:Bremshaus BUO
ORGANIZER:MAILTO:Mirage-Verein Buochs <info@mirage-buochs.ch>
SUMMARY:Arbeitstag 2 (doodle Umfrage aktiv)
END:VEVENT
END:VCALENDAR
