BEGIN:VCALENDAR
VERSION:2.0
PRODID:-//Mirage-Verein Buochs//NONSGML kigkonsult.se iCalcreator 2.16.12//
METHOD:PUBLISH
X-MS-OLK-FORCEINSPECTOROPEN:TRUE
BEGIN:VEVENT
UID:20260422T141049CEST-1598bl4D5r@Mirage-Verein Buochs
DTSTAMP:20260422T121049Z
DESCRIPTION:Am Samstag\, den 13. November\, steht ein weiterer Arbeitstag a
 n. Es werden wieder diverse Arbeiten durchgeführt. Den Abschluss machen wi
 r wie immer mit einem feinen Käsegericht.\n\nWICHTIG:\nIm Bremshaus gilt e
 ine Maskenpflicht.\nIm Restaurant eine Zertifikatspflicht.\n\nWir danke al
 len Teilnehmer für das Verständnis.\n\nDamit wir den Anlass optimal planen
  können\, bitten wir die Teilnehmer\, sich bis spätestens am Sonntag\, 7. 
 November 2021 anzumelden.\nTeilnehmer tragt sich einfach in dieser Doodle 
 Umfrage ein https://doodle.com/poll/8e6zu9wr3uuf5uy5 \n\nBesten Dank und h
 offentlich bis im November!\nMirage-Verein Buochs
DTSTART:20211113T090000
DTEND:20211113T160000
LOCATION:Bremshaus BUO
ORGANIZER:MAILTO:Mirage-Verein Buochs <info@mirage-buochs.ch>
SUMMARY:Arbeitstag 3 (update)
END:VEVENT
END:VCALENDAR
