BEGIN:VCALENDAR
VERSION:2.0
PRODID:-//Mirage-Verein Buochs//NONSGML kigkonsult.se iCalcreator 2.16.12//
METHOD:PUBLISH
X-MS-OLK-FORCEINSPECTOROPEN:TRUE
BEGIN:VEVENT
UID:20260422T140916CEST-6246xm8WBh@Mirage-Verein Buochs
DTSTAMP:20260422T120916Z
DESCRIPTION:Am Montag\, 24. Januar findet wieder ein Triebwerklauf unserer 
 Mirage R-2109 im Bremshaus Buochs statt. Um 18.00 Uhr sind alle Mitglieder
  die Lust und Laune haben\, dazu eingeladen.\n 
DTSTART:20220124T180000
DTEND:20220124T190000
LOCATION:Bremshaus
ORGANIZER:MAILTO:Mirage-Verein Buochs <info@mirage-buochs.ch>
SUMMARY:periodischer TW-Lauf
END:VEVENT
END:VCALENDAR
