BEGIN:VCALENDAR
VERSION:2.0
PRODID:-//Mirage-Verein Buochs//NONSGML kigkonsult.se iCalcreator 2.16.12//
METHOD:PUBLISH
X-MS-OLK-FORCEINSPECTOROPEN:TRUE
BEGIN:VEVENT
UID:20260422T140917CEST-1332HevJnJ@Mirage-Verein Buochs
DTSTAMP:20260422T120917Z
DESCRIPTION:Am Samstag\, den 26. März\, steht ein weiterer Arbeitstag an. E
 s werden wieder diverse Arbeiten durchgeführt.\n\nDamit wir den Anlass opt
 imal planen können\, bitten wir die Teilnehmer\, sich bis spätestens am So
 nntag\, 20. März anzumelden. \ndoodle Anmeldung\n\nArbeitsbeginn ist wie i
 mmer um 09.00 Uhr.
DTSTART:20220326T090000
DTEND:20220326T160000
LOCATION:Bremshaus Buochs
ORGANIZER:MAILTO:Mirage-Verein Buochs <info@mirage-buochs.ch>
SUMMARY:Arbeitstag
END:VEVENT
END:VCALENDAR
