BEGIN:VCALENDAR
VERSION:2.0
PRODID:-//Mirage-Verein Buochs//NONSGML kigkonsult.se iCalcreator 2.16.12//
METHOD:PUBLISH
X-MS-OLK-FORCEINSPECTOROPEN:TRUE
BEGIN:VEVENT
UID:20260422T140916CEST-2217BHtFCV@Mirage-Verein Buochs
DTSTAMP:20260422T120916Z
DESCRIPTION:weitere Informationen folgen...
DTSTART:20220430T100000
DTEND:20220430T120000
LOCATION:Restaurant Herdern
ORGANIZER:MAILTO:Mirage-Verein Buochs <info@mirage-buochs.ch>
SUMMARY:Mitgliederversammlung
END:VEVENT
END:VCALENDAR
