BEGIN:VCALENDAR
VERSION:2.0
PRODID:-//Mirage-Verein Buochs//NONSGML kigkonsult.se iCalcreator 2.16.12//
METHOD:PUBLISH
X-MS-OLK-FORCEINSPECTOROPEN:TRUE
BEGIN:VEVENT
UID:20260422T141050CEST-28461jfLT1@Mirage-Verein Buochs
DTSTAMP:20260422T121050Z
DESCRIPTION:Der Grossteil der Arbeiten ist der Erneuerung der Beleuchtung g
 ewidmet. Gesucht werden Elektriker\, Elektromechaniker\, Elektroniker oder
  andere «Stromer».\nWer sich mit braun\, blau und grüngelb auskennt\, soll
  sich bei hans.burkard@bluewin.ch melden.\n\nDamit wir den Anlass optimal 
 planen können\, bitten wir alle Teilnehmer (auch die «Stromer»)\, sich bis
  spätestens am Sonntag\, 19. Juni anzumelden.\n\nAnmeldung unter nachfolge
 ndem Link. \nhttps://doodle.com/meeting/participate/id/bkRGpQNa\n\nArbeits
 beginn ist wie immer um 09.00 Uhr.
DTSTART:20220625T090000
DTEND:20220625T160000
LOCATION:Bremshaus
ORGANIZER:MAILTO:Mirage-Verein Buochs <info@mirage-buochs.ch>
SUMMARY:Arbeitstag (update)
END:VEVENT
END:VCALENDAR
