BEGIN:VCALENDAR
VERSION:2.0
PRODID:-//Mirage-Verein Buochs//NONSGML kigkonsult.se iCalcreator 2.16.12//
METHOD:PUBLISH
X-MS-OLK-FORCEINSPECTOROPEN:TRUE
BEGIN:VEVENT
UID:20260422T141049CEST-79246uZaug@Mirage-Verein Buochs
DTSTAMP:20260422T121049Z
DESCRIPTION:Damit wir den Anlass optimal planen können\, bitten wir die Tei
 lnehmer\, sich bis spätestens am Sonntag\, 18. September anzumelden.\n\nBi
 tte tragt euch einfach in dieser Umfrage ein\nhttps://nuudel.digitalcourag
 e.de/ntpXWSrUrcOnvmj2\n\nArbeitsbeginn ist wie immer um 09.00 Uhr. Anschli
 essend Ausserordentliche Mitgliederversammlung.
DTSTART:20220924T090000
DTEND:20220924T153000
LOCATION:Bremshaus
ORGANIZER:MAILTO:Mirage-Verein Buochs <info@mirage-buochs.ch>
SUMMARY:Arbeitstag (Umfrage aktiv)
END:VEVENT
END:VCALENDAR
