BEGIN:VCALENDAR
VERSION:2.0
PRODID:-//Mirage-Verein Buochs//NONSGML kigkonsult.se iCalcreator 2.16.12//
METHOD:PUBLISH
X-MS-OLK-FORCEINSPECTOROPEN:TRUE
BEGIN:VEVENT
UID:20260422T141043CEST-3343zpeODR@Mirage-Verein Buochs
DTSTAMP:20260422T121043Z
DESCRIPTION:Traktanden:\n1. Begrüssung\, Vorstellung Vorstand\n2. Wahl der 
 Stimmenzähler\n3. Vorstellung der Fakten\, Diskussion\n4. Entscheid wie we
 iter mit unserem Triebwerk\n5. Varia\n\n
DTSTART:20220924T160000
DTEND:20220924T170000
LOCATION:Schützenhauses «Herdern»
ORGANIZER:MAILTO:Mirage-Verein Buochs <info@mirage-buochs.ch>
SUMMARY:Ausserordentliche Mitgliederversammlung
END:VEVENT
END:VCALENDAR
