BEGIN:VCALENDAR
VERSION:2.0
PRODID:-//Mirage-Verein Buochs//NONSGML kigkonsult.se iCalcreator 2.16.12//
METHOD:PUBLISH
X-MS-OLK-FORCEINSPECTOROPEN:TRUE
BEGIN:VEVENT
UID:20260422T141043CEST-66797DzJeU@Mirage-Verein Buochs
DTSTAMP:20260422T121043Z
DESCRIPTION:Damit wir den Anlass optimal planen können\, bitten wir die Tei
 lnehmer\, sich bis spätestens am Sonntag\, 6. November anzumelden.\n\nBitt
 e tragt euch einfach in dieser Umfrage ein\nhttps://nuudel.digitalcourage.
 de/17wd7aKrCWeYJAHh\n\nArbeitsbeginn ist wie immer um 09.00 Uhr. Anschlies
 send Raclette und gemütliches Beisammensein.
DTSTART:20221112T090000
DTEND:20221112T160000
LOCATION:Bremshaus
ORGANIZER:MAILTO:Mirage-Verein Buochs <info@mirage-buochs.ch>
SUMMARY:Arbeitstag (Anmeldung aktiv)
END:VEVENT
END:VCALENDAR
