BEGIN:VCALENDAR
VERSION:2.0
PRODID:-//Mirage-Verein Buochs//NONSGML kigkonsult.se iCalcreator 2.16.12//
METHOD:PUBLISH
X-MS-OLK-FORCEINSPECTOROPEN:TRUE
BEGIN:VEVENT
UID:20260422T141914CEST-90515iTG1R@Mirage-Verein Buochs
DTSTAMP:20260422T121914Z
DESCRIPTION:Am 20. August präsendiert sich der Mirage-Verein am Hunterfest 
 in St. Stephan. Kommt zu uns an den Stand und geniesst ein Mirage Aufkläre
 r Bier.\n\n\nMirage Aufklärer Bier*\nZum Sonderpreis von 4 Franken die Büc
 hse. S’hät solangs hät\n* Abgefüllt Brauerei Falken AG\, Helles Schweizer 
 Lagerbier\n\n\n\n 
DTSTART:20220820T083000
DTEND:20220820T170000
LOCATION:Flugplatz St. Stephan
ORGANIZER:MAILTO:Mirage-Verein Buochs <info@mirage-buochs.ch>
SUMMARY:Der MVB am Hunterfest in St. Stephan
END:VEVENT
END:VCALENDAR
