BEGIN:VCALENDAR
VERSION:2.0
PRODID:-//Mirage-Verein Buochs//NONSGML kigkonsult.se iCalcreator 2.16.12//
METHOD:PUBLISH
X-MS-OLK-FORCEINSPECTOROPEN:TRUE
BEGIN:VEVENT
UID:20260422T141008CEST-3875XFI3aw@Mirage-Verein Buochs
DTSTAMP:20260422T121008Z
DESCRIPTION:Keine Anmldung mehr möglich!\n
DTSTART:20221202T084500
DTEND:20221202T120000
LOCATION:Flugplatzkommando Emmen
ORGANIZER:MAILTO:Mirage-Verein Buochs <info@mirage-buochs.ch>
SUMMARY:MVB-Mitgliederanlass 2022 – Besichtigung Militärflugplatz Emmen
END:VEVENT
END:VCALENDAR
