BEGIN:VCALENDAR
VERSION:2.0
PRODID:-//Mirage-Verein Buochs//NONSGML kigkonsult.se iCalcreator 2.16.12//
METHOD:PUBLISH
X-MS-OLK-FORCEINSPECTOROPEN:TRUE
BEGIN:VEVENT
UID:20260422T153151CEST-4445Rg83nL@Mirage-Verein Buochs
DTSTAMP:20260422T133151Z
DESCRIPTION:Einladung zur ordentlichen Mitgliederversammlung \nSamstag 1. A
 pril 2023 1000h\nSchützenhaus «Herdern»\, Flugplatz Buochs \n\nWir freuen 
 uns\, Sie zur Mitgliederversammlung über das Vereinsjahr 2022 einladen zu 
 dürfen. \nTraktanden:\n\n	Begrüssung\, Vorstellung Vorstand \n	Wahl der Stim
 menzähler \n	Protokolle der Mitgliederversammlungen vom 30. April 2022 (sie
 he Jahresbericht 2022) und 24. September 2022\n	Jahresberichte des Vorstand
 es \n	Wahlen \n	Anträge \n	Weiteres Vorgehen Triebwerk ATAR \n	Budget und Fest
 setzung Jahresbeitrag \n	Vorschlag Jahresprogramm 2023 \n	Varia \n\nAnträge 
 an die Mitgliederversammlung sind bis spätestens 10. März 2023 an den Präs
 identen zu richten (Datum des Poststempels). \n\nÜber den Stand der Thoriu
 m-Entsorgung hatten wir Sie mit unserem Schreiben vom 18. Dezember 2022 pe
 r Email bzw. Briefpost informiert. Die Abklärungen zu den einzelnen Varian
 ten sind weiterhin sehr im Fluss. Wir verzichten daher auf eine detaillier
 te Darlegung im Rahmen dieser Einladung und informieren Sie über den aktue
 llen Stand anlässlich der Mitgliederversammlung. \n\nReferat:\nRené Schnei
 der\, Mirage-Verein-Vorstandsmitglied\, aktiver Linien- und ehemaliger AMI
 R-Pilot: «Vom Kindheitstraum zum langjährigen Mirage IIIRS Aufklärer Pilot
 » \n\nVerpflegung:\nMittagessen im Schützenhaus «Herdern» nach der Mitglie
 derversammlung und dem Referat. Bitte kaufen Sie bei der Registrierung ein
 en Essenscoupon. \n\nNachmittag:\nDas Bremshaus mit unserer Mirage IIIRS R
 -2109 ist zur Besichtigung geöffnet. 
DTSTART:20230401T100000
DTEND:20230401T120000
LOCATION:Restaurant «Herdern»
ORGANIZER:MAILTO:Mirage-Verein Buochs <info@mirage-buochs.ch>
SUMMARY:Ordentlichen Mitgliederversammlung
END:VEVENT
END:VCALENDAR
