BEGIN:VCALENDAR
VERSION:2.0
PRODID:-//Mirage-Verein Buochs//NONSGML kigkonsult.se iCalcreator 2.16.12//
METHOD:PUBLISH
X-MS-OLK-FORCEINSPECTOROPEN:TRUE
BEGIN:VEVENT
UID:20260422T140921CEST-9697E9i0PM@Mirage-Verein Buochs
DTSTAMP:20260422T120921Z
DESCRIPTION:Am Samstag\, den 18. März\, steht ein weiterer Arbeitstag an. E
 s werden wieder diverse Arbeiten durchgeführt.\nDamit wir den Anlass optim
 al planen können\, bitten wir die Teilnehmer\, sich bis spätestens am Sonn
 tag\, 12. März anzumelden.\n\nBitte tragt euch einfach in dieser Umfrage e
 in \nhttps://nuudel.digitalcourage.de/N1TucKcLlOrNctcv\n\nArbeitsbeginn is
 t wie immer um 09.00 Uhr.
DTSTART:20230318T090000
DTEND:20230318T160000
LOCATION:Bremshaus
ORGANIZER:MAILTO:Mirage-Verein Buochs <info@mirage-buochs.ch>
SUMMARY:Arbeitstag 1
END:VEVENT
END:VCALENDAR
