BEGIN:VCALENDAR
VERSION:2.0
PRODID:-//Mirage-Verein Buochs//NONSGML kigkonsult.se iCalcreator 2.16.12//
METHOD:PUBLISH
X-MS-OLK-FORCEINSPECTOROPEN:TRUE
BEGIN:VEVENT
UID:20260422T143325CEST-4966ZL93WW@Mirage-Verein Buochs
DTSTAMP:20260422T123325Z
DESCRIPTION:Damit wir den Anlass optimal planen können\, bitten wir alle Te
 ilnehmer sich bis spätestens am Sonntag\, 11. Juni anzumelden.\n\nAnmeldun
 g unter nachfolgendem Link. \nhttps://nuudel.digitalcourage.de/svemPS6eTCQ
 Jv56D\n\nDen Eintrag bitte wie folgt durchführen. \n\n\n\n	Name eintragen\n
 	auf Status klicken (Hacken)\n	Speichern\n\n\nArbeitsbeginn ist wie immer um
  09.00 Uhr.\n
DTSTART:20230617T090000
DTEND:20230617T160000
ORGANIZER:MAILTO:Mirage-Verein Buochs <info@mirage-buochs.ch>
SUMMARY:Arbeitstag 2: Anmeldung aktiv!
END:VEVENT
END:VCALENDAR
