BEGIN:VCALENDAR
VERSION:2.0
PRODID:-//Mirage-Verein Buochs//NONSGML kigkonsult.se iCalcreator 2.16.12//
METHOD:PUBLISH
X-MS-OLK-FORCEINSPECTOROPEN:TRUE
BEGIN:VEVENT
UID:20260422T141008CEST-7664U2r1vw@Mirage-Verein Buochs
DTSTAMP:20260422T121008Z
DESCRIPTION:Damit wir den Anlass optimal planen können\, bitten wir die Tei
 lnehmer\, sich bis spätestens am Sonntag\, 17. September anzumelden.\n\nBi
 tte tragt euch einfach in dieser Umfrage ein\nhttps://nuudel.digitalcourag
 e.de/ZBoDgTIeSvGkaFJc\n \nDen Eintrag bitte wie folgt durchführen. \n\n\n
 \n	Name eintragen\n	auf Status klicken (Hacken)\n	Speichern\n\nArbeitsbeginn 
 ist wie immer um 09.00 Uhr.
DTSTART:20230923T090000
DTEND:20230923T160000
ORGANIZER:MAILTO:Mirage-Verein Buochs <info@mirage-buochs.ch>
SUMMARY:Arbeitstag 3 (Anmeldung aktiv)
END:VEVENT
END:VCALENDAR
