BEGIN:VCALENDAR
VERSION:2.0
PRODID:-//Mirage-Verein Buochs//NONSGML kigkonsult.se iCalcreator 2.16.12//
METHOD:PUBLISH
X-MS-OLK-FORCEINSPECTOROPEN:TRUE
BEGIN:VEVENT
UID:20260422T153615CEST-6021LGtL5u@Mirage-Verein Buochs
DTSTAMP:20260422T133615Z
DESCRIPTION:Anmeldung bis spätestens am Sonntag\, 19. November 2023\n\nAnme
 ldung unter nachfolgendem Link.\nhttps://nuudel.digitalcourage.de/79oWJEZa
 gFaJMcsf\n\nDie Anmeldung bitte wie folgt durchführen.\n\n\n\nArbeitsbegin
 n ist wie immer um 09.00 Uhr.\n 
DTSTART:20231125T090000
DTEND:20231125T160000
LOCATION:Brem
ORGANIZER:MAILTO:Mirage-Verein Buochs <info@mirage-buochs.ch>
SUMMARY:Arbeitstag 4  (Anmeldung aktiv)
END:VEVENT
END:VCALENDAR
