BEGIN:VCALENDAR
VERSION:2.0
PRODID:-//Mirage-Verein Buochs//NONSGML kigkonsult.se iCalcreator 2.16.12//
METHOD:PUBLISH
X-MS-OLK-FORCEINSPECTOROPEN:TRUE
BEGIN:VEVENT
UID:20260422T141706CEST-9222ZlKt0V@Mirage-Verein Buochs
DTSTAMP:20260422T121706Z
DESCRIPTION:Am Donnerstag\, 25.5. findet der letzte Mirage-Flug in der Schw
 eiz statt. Das Flugzeug wird den Flugplatz Buochs zwischen 15.10 und 15.15
  Uhr zwei Mal überfliegen. Anschliessend sind die Tore des Bremshauses des
  Mirage-Vereins an der Stanserstrasse bis ca. 1800 Uhr zur Besichtigung un
 seres Mirage-Aufklärers R-2109 für Interessierte geöffnet. \n\nStart und L
 andung der J-2012 ist in Payerne\nAnfragen info@clindailes.ch / http://www
 .clindailes.ch/de/\n\n
DTSTART:20230525T150000
DTEND:20230525T180000
LOCATION:Bremshaus
ORGANIZER:MAILTO:Mirage-Verein Buochs <info@mirage-buochs.ch>
SUMMARY:Offenes Tor Bremshaus
END:VEVENT
END:VCALENDAR
