BEGIN:VCALENDAR
VERSION:2.0
PRODID:-//Mirage-Verein Buochs//NONSGML kigkonsult.se iCalcreator 2.16.12//
METHOD:PUBLISH
X-MS-OLK-FORCEINSPECTOROPEN:TRUE
BEGIN:VEVENT
UID:20260422T141049CEST-4746tu2TjB@Mirage-Verein Buochs
DTSTAMP:20260422T121049Z
DESCRIPTION:MVB-Mitgliederanlass vom Samstag\, 04.11.2023\nFlugplatz Langen
 thal («Bleienbach»)\n \n\n	\n		\n			Programm\n			Zeit\n			Besonderes\n		\n		\n			 \n			 \n			 \n		\n		
 \n			Anreise nach Flugplatz Langenthal («Bleienbach»)\n			individuell\n			\n			\n				Es is
 t empfohlen\, sich abzusprechen und Fahrgemeinschaften zu bilden\;\n				Kurt H
 uber gibt auf E-Mail-Anfrage (kurt_huber@bluewin.ch) Auskunft zur «Transpo
 rtbörse»\;\n				Parkmöglichkeiten in Parkhaus auf Perimeter\n			\n			\n		\n		\n			 \n			 \n			 \n
 		\n		\n			Kaffee/Gipfeli\n			09.30\n			\n			\n				Konsumation auf Kosten MVB\n			\n			\n		\n		\n			 \n			 \n			 
 \n		\n		\n			Besuch/Führung\n			«Fliegermuseum Oberaargau»\n			10.00\n			\n			\n				Eintritt CHF1
 0.00 pro Person\;\n				weiterführende Informationen unter: https://www.flieger
 museum-oberaargau.ch/\n			\n			\n		\n		\n			 \n			 \n			 \n		\n		\n			Mittagessen\n			12.00\n			\n			\n				Konsum
 ation (Mittagsmenu/Getränke) auf eigene Kosten\;\n				Mittagesmenu CHF20.00: S
 alat/Spaghetti Bolognese\n			\n			\n		\n		\n			 \n			 \n			 \n		\n		\n			Besuch/Führung Privatsammlu
 ng/-museum «Matthias Jost»\n			13.30\n			 \n		\n		\n			 \n			 \n			 \n		\n		\n			Ende Veranstaltung
 \n			15.00\n			 \n		\n		\n			 \n			 \n			 \n		\n		\n			Rückreise\n			individuell\n			 \n		\n		\n			 \n			 \n			 \n		\n	\n
 \n \n\n\n	\n		\n			Anmeldungsprozedere\n			Bemerkungen\n		\n		\n			 \n			 \n		\n		\n			Anmeldedatum
 \n			\n			\n				bis spätestens Sonntag\, 29.10.2023 (18.00)\n			\n			\n		\n		\n			 \n			 \n		\n		\n			Anmel
 dung\n			\n			\n				E-Mail zH Kurt Huber (kurt_huber@bluewin.ch)\, Vorstandsmitglied
  MVB\n			\n			\n		\n		\n			 \n			 \n		\n		\n			Kontaktnummer\n			(nur am Anlasstag)\n			\n			\n				+41 79 406 
 89 53 \n			\n			\n		\n		\n			\n			\n		\n	\n\n\n\n \n\n x\n 
DTSTART:20231104T100000
DTEND:20231104T160000
LOCATION:Flugplatz Bleienbach
ORGANIZER:MAILTO:Mirage-Verein Buochs <info@mirage-buochs.ch>
SUMMARY:MVB-Mitgliederanlass 2023 (Anmeldung aktiv)
END:VEVENT
END:VCALENDAR
