BEGIN:VCALENDAR
VERSION:2.0
PRODID:-//Mirage-Verein Buochs//NONSGML kigkonsult.se iCalcreator 2.16.12//
METHOD:PUBLISH
X-MS-OLK-FORCEINSPECTOROPEN:TRUE
BEGIN:VEVENT
UID:20260422T130910CEST-0426S2GUHV@Mirage-Verein Buochs
DTSTAMP:20260422T110910Z
DESCRIPTION:Am Samstag\, den 16. März\, steht ein weiterer Arbeitstag an. E
 s werden wieder diverse Arbeiten durchgeführt.\nDamit wir den Anlass optim
 al planen können\, bitten wir die Teilnehmer\, sich bis spätestens am Sonn
 tag\, 10. März anzumelden.\n\nAnmelung mit nachfolgendem Link:\nhttps://nu
 udel.digitalcourage.de/wyqIzFpgKhqCHkJq\n\nArbeitsbeginn ist wie immer um 
 09.00 Uhr.
DTSTART:20240316T090000
DTEND:20240316T160000
LOCATION:Bremshaus
ORGANIZER:MAILTO:Mirage-Verein Buochs <info@mirage-buochs.ch>
SUMMARY:Arbeitstag 1 / Anmeldung aktiv
END:VEVENT
END:VCALENDAR
