BEGIN:VCALENDAR
VERSION:2.0
PRODID:-//Mirage-Verein Buochs//NONSGML kigkonsult.se iCalcreator 2.16.12//
METHOD:PUBLISH
X-MS-OLK-FORCEINSPECTOROPEN:TRUE
BEGIN:VEVENT
UID:20260422T124855CEST-6157uELKPj@Mirage-Verein Buochs
DTSTAMP:20260422T104855Z
DESCRIPTION:Einladung zur ordentlichen Mitgliederversammlung \nSamstag 13. 
 April 2024\, ab 1000h\nSchützenhaus «Herdern»\, Flugplatz Buochs\n\nLiebe 
 MIRAGE-Freundin\, lieber MIRAGE-Freund\n\nDer Vorstand des Mirage-Verein B
 uochs freut sich\, Sie zur Mitgliederversammlung über das Vereinsjahr 2023
  einzuladen.\n\nTraktanden:\n\n	Begrüssung\, Vorstellung Vorstand\n	Wahl der
  Stimmenzähler\n	Protokoll Mitgliederversammlungen vom 1. April 2023 (siehe
  Jahresbericht 2023)\n	Jahresberichte des Vorstandes\n	Wahlen\n	Weiteres Vorg
 ehen Triebwerk ATAR\n	Anträge (Antrag des Vorstandes siehe Jahresbericht 20
 23 Seite 20)\n	Budget und Festsetzung Jahresbeitrag\n	Jahresprogramm 2024\n	V
 aria\n\n\n\nAnträge an die Mitgliederversammlung sind bis spätestens 30. M
 ärz 2024 schriftlich an den Präsidenten zu richten (Datum Poststempel/Post
 eingang E-Mail).\n\nDie Abklärungen zu den einzelnen Varianten der Thorium
 -Entsorgung konkretisieren sich. Wir verzichten daher im Rahmen dieser Ein
 ladung auf eine detaillierte Darlegung und informieren Sie über den aktuel
 len Stand anlässlich der Mitgliederversammlung.\n\nReferat:    \n\nOberstl
 eutnant Nils «Jamie» Hämmerli\, Kommandant Patrouille Suisse\, wird exklus
 iv ausführen\, wie die «PS» in ihrem 60. Jubiläumsjahr aufgestellt ist\, w
 ie sich das Jahresprogramm gestaltet und sich die Zukunft der Jet-Kunstflu
 gformation der Schweizer Luftwaffe gestaltet.\n\nVerpflegung:    \n\nMitta
 gessen im Schützenhaus «Herdern» nach dem Referat. Bitte kaufen Sie bei de
 r Registrierung einen Essenscoupon.\n\nNachmittag:    \n\nDas Bremshaus mi
 t unserer Mirage IIIRS R-2109 ist zur Besichtigung geöffnet.\n\nDer Präsid
 ent\n \nOlivier Borgeaud\n
DTSTART:20240413T100000
DTEND:20240413T160000
ORGANIZER:MAILTO:Mirage-Verein Buochs <info@mirage-buochs.ch>
SUMMARY:Mitgliederversammlung
END:VEVENT
END:VCALENDAR
