BEGIN:VCALENDAR
VERSION:2.0
PRODID:-//Mirage-Verein Buochs//NONSGML kigkonsult.se iCalcreator 2.16.12//
METHOD:PUBLISH
X-MS-OLK-FORCEINSPECTOROPEN:TRUE
BEGIN:VEVENT
UID:20260422T130844CEST-17006aapu0@Mirage-Verein Buochs
DTSTAMP:20260422T110844Z
DESCRIPTION:Leider müssen wir den für den 15. Juni geplanten Arbeitstag abs
 agen. Aufgrund von Ressourcenknappheit im Vorstand ist eine adäquate Vorbe
 reitung des Arbeitstages nicht möglich.\n\nZudem findet an diesem Wochenen
 de die Friedenskonferenz auf dem Bürgenstock statt. Da das Bremshaus unmit
 telbar neben der Sperrzone liegt\, sind auch hier mit Einschränkungen zu r
 echnen.\n\nBesten Dank für euer Verständnis.
DTSTART:20240615T090000
DTEND:20240615T160000
LOCATION:Bremshaus
ORGANIZER:MAILTO:Mirage-Verein Buochs <info@mirage-buochs.ch>
SUMMARY:Arbeitstag 2 abgesagt!
END:VEVENT
END:VCALENDAR
