BEGIN:VCALENDAR
VERSION:2.0
PRODID:-//Mirage-Verein Buochs//NONSGML kigkonsult.se iCalcreator 2.16.12//
METHOD:PUBLISH
X-MS-OLK-FORCEINSPECTOROPEN:TRUE
BEGIN:VEVENT
UID:20260422T124847CEST-4099ZC2N7s@Mirage-Verein Buochs
DTSTAMP:20260422T104847Z
DESCRIPTION:\n 
DTSTART:20240907T110000
DTEND:20240907T170000
LOCATION:Bremshaus
ORGANIZER:MAILTO:Mirage-Verein Buochs <info@mirage-buochs.ch>
SUMMARY:20. Jubiläum MVB
END:VEVENT
END:VCALENDAR
