BEGIN:VCALENDAR
VERSION:2.0
PRODID:-//Mirage-Verein Buochs//NONSGML kigkonsult.se iCalcreator 2.16.12//
METHOD:PUBLISH
X-MS-OLK-FORCEINSPECTOROPEN:TRUE
BEGIN:VEVENT
UID:20260422T124847CEST-7137KInU2F@Mirage-Verein Buochs
DTSTAMP:20260422T104847Z
DESCRIPTION:Damit wir den Anlass optimal planen können\, bitten wir alle Te
 ilnehmer sich bis spätestens am Sonntag\, 22. September anzumelden.\n\nAnm
 eldung unter nachfolgendem Link.\nhttps://nuudel.digitalcourage.de/jFo2npU
 MTbyUnDe6
DTSTART:20240928T090000
DTEND:20240928T160000
LOCATION:Bremshaus
ORGANIZER:MAILTO:Mirage-Verein Buochs <info@mirage-buochs.ch>
SUMMARY:Arbeitstag 3 (Anmeldung aktiv)
END:VEVENT
END:VCALENDAR
