BEGIN:VCALENDAR
VERSION:2.0
PRODID:-//Mirage-Verein Buochs//NONSGML kigkonsult.se iCalcreator 2.16.12//
METHOD:PUBLISH
X-MS-OLK-FORCEINSPECTOROPEN:TRUE
BEGIN:VEVENT
UID:20260422T124752CEST-69566OAXob@Mirage-Verein Buochs
DTSTAMP:20260422T104752Z
DESCRIPTION:Am Samstag\, den 23. November\, steht ein weiterer Arbeitstag a
 n. Es werden wieder diverse Arbeiten durchgeführt. Den Abschluss machen wi
 r wie immer mit einem feinen Käsegericht.\n\nAnmeldung bis spätestens am S
 onntag\, 17. November 2024\nhttps://nuudel.digitalcourage.de/yAFq91I2QPksx
 j6V\n\nArbeitsbeginn ist wie immer um 09.00 Uhr.
DTSTART:20241123T090000
DTEND:20241123T160000
LOCATION:Bremshaus
ORGANIZER:MAILTO:Mirage-Verein Buochs <info@mirage-buochs.ch>
SUMMARY:Arbeitstag 4  (Anmeldung aktiv)
END:VEVENT
END:VCALENDAR
