BEGIN:VCALENDAR
VERSION:2.0
PRODID:-//Mirage-Verein Buochs//NONSGML kigkonsult.se iCalcreator 2.16.12//
METHOD:PUBLISH
X-MS-OLK-FORCEINSPECTOROPEN:TRUE
BEGIN:VEVENT
UID:20260422T142613CEST-5561v2dc1J@Mirage-Verein Buochs
DTSTAMP:20260422T122613Z
DESCRIPTION:Am Donnerstag\, 25. Januar findet wieder ein Triebwerklauf unse
 rer Mirage R-2109 im Bremshaus Buochs statt. Ab ca. 18.00 Uhr sind alle Mi
 tglieder die Lust und Laune haben\, dazu eingeladen.
DTSTART:20240125T174500
DTEND:20240125T184500
LOCATION:Bremshaus
ORGANIZER:MAILTO:Mirage-Verein Buochs <info@mirage-buochs.ch>
SUMMARY:periodischer TW-Lauf
END:VEVENT
END:VCALENDAR
