BEGIN:VCALENDAR
VERSION:2.0
PRODID:-//Mirage-Verein Buochs//NONSGML kigkonsult.se iCalcreator 2.16.12//
METHOD:PUBLISH
X-MS-OLK-FORCEINSPECTOROPEN:TRUE
BEGIN:VEVENT
UID:20260422T124826CEST-2439RFkt3D@Mirage-Verein Buochs
DTSTAMP:20260422T104826Z
DESCRIPTION:Am Samstag\, den 22. März\, steht ein weiterer Arbeitstag an. E
 s werden wieder diverse Arbeiten durchgeführt.\nDamit wir den Anlass optim
 al planen können\, bitten wir die Teilnehmer\, sich bis spätestens am Sonn
 tag\, 16. März anzumelden.\n\nAnmeldung über https://nuudel.digitalcourage
 .de/O9bMYRUa2k4ZFZMs\n\nArbeitsbeginn ist wie immer um 09.00 Uhr.\n 
DTSTART:20250322T090000
DTEND:20250322T160000
LOCATION:Bremshaus
ORGANIZER:MAILTO:Mirage-Verein Buochs <info@mirage-buochs.ch>
SUMMARY:Arbeitstag 1/25 (Anmeldung aktiv)
END:VEVENT
END:VCALENDAR
