BEGIN:VCALENDAR
VERSION:2.0
PRODID:-//Mirage-Verein Buochs//NONSGML kigkonsult.se iCalcreator 2.16.12//
METHOD:PUBLISH
X-MS-OLK-FORCEINSPECTOROPEN:TRUE
BEGIN:VEVENT
UID:20260422T124826CEST-53383u8Xh4@Mirage-Verein Buochs
DTSTAMP:20260422T104826Z
DESCRIPTION:Damit wir den Anlass optimal planen können\, bitten wir die Tei
 lnehmer\, sich bis spätestens am Sonntag\, 22. Juni anzumelden.\n\nAnmeldu
 ng: https://nuudel.digitalcourage.de/tPdKAzx2YF6crvJT
DTSTART:20250628T090000
DTEND:20250628T160000
LOCATION:Bremshaus
ORGANIZER:MAILTO:Mirage-Verein Buochs <info@mirage-buochs.ch>
SUMMARY:Arbeitstag 2/25 (Anmeldung aktiv)
END:VEVENT
END:VCALENDAR
