BEGIN:VCALENDAR
VERSION:2.0
PRODID:-//Mirage-Verein Buochs//NONSGML kigkonsult.se iCalcreator 2.16.12//
METHOD:PUBLISH
X-MS-OLK-FORCEINSPECTOROPEN:TRUE
BEGIN:VEVENT
UID:20260422T130910CEST-3495iu0uRO@Mirage-Verein Buochs
DTSTAMP:20260422T110910Z
DESCRIPTION:Damit wir den Anlass optimal planen können\, bitten wir alle Te
 ilnehmer sich bis spätestens am Sonntag\, 21. September anzumelden.\n\nAnm
 eldung unter nachfolgendem Link.\nhttps://nuudel.digitalcourage.de/o2azCcw
 pS3tbyOVm\n\nArbeitsbeginn ist wie immer um 09.00 Uhr.
DTSTART:20250927T090000
DTEND:20250927T160000
LOCATION:Bremshaus
ORGANIZER:MAILTO:Mirage-Verein Buochs <info@mirage-buochs.ch>
SUMMARY:Arbeitstag 3/25 (Anmeldung aktiv)
END:VEVENT
END:VCALENDAR
