BEGIN:VCALENDAR
VERSION:2.0
PRODID:-//Mirage-Verein Buochs//NONSGML kigkonsult.se iCalcreator 2.16.12//
METHOD:PUBLISH
X-MS-OLK-FORCEINSPECTOROPEN:TRUE
BEGIN:VEVENT
UID:20260422T130829CEST-43075XKc8b@Mirage-Verein Buochs
DTSTAMP:20260422T110829Z
DESCRIPTION:Damit wir den Anlass optimal planen können\, bitten wir alle Te
 ilnehmer sich bis spätestens am Sonntag\, 16. November anzumelden.\n\nAnme
 ldung unter nachfolgendem Link.\nhttps://xoyondo.com/dp/b7sz4romsj2kkjf
DTSTART:20251122T090000
DTEND:20251122T160000
LOCATION:Bremshaus
ORGANIZER:MAILTO:Mirage-Verein Buochs <info@mirage-buochs.ch>
SUMMARY:Arbeitstag 4/25 (Anmeldung aktiv)
END:VEVENT
END:VCALENDAR
