BEGIN:VCALENDAR
VERSION:2.0
PRODID:-//Mirage-Verein Buochs//NONSGML kigkonsult.se iCalcreator 2.16.12//
METHOD:PUBLISH
X-MS-OLK-FORCEINSPECTOROPEN:TRUE
BEGIN:VEVENT
UID:20260422T124752CEST-7319UVue1L@Mirage-Verein Buochs
DTSTAMP:20260422T104752Z
DESCRIPTION:Mitgliederversammlung: Bitte den Termin vormerken! Weitere Deta
 ils folgen.
DTSTART:20250412T100000
DTEND:20250412T160000
ORGANIZER:MAILTO:Mirage-Verein Buochs <info@mirage-buochs.ch>
SUMMARY:Mitgliederversammlung
END:VEVENT
END:VCALENDAR
