BEGIN:VCALENDAR
VERSION:2.0
PRODID:-//Mirage-Verein Buochs//NONSGML kigkonsult.se iCalcreator 2.16.12//
METHOD:PUBLISH
X-MS-OLK-FORCEINSPECTOROPEN:TRUE
BEGIN:VEVENT
UID:20260422T124848CEST-0923aDKpE8@Mirage-Verein Buochs
DTSTAMP:20260422T104848Z
DESCRIPTION:Einladung an alle Mitglieder\n\nNach der Revision des ATAR-Trie
 bwerks und dem erfolgreichen Einbau freuen wir uns\, alle Mitglieder zu ei
 nem besonderen Ereignis einzuladen: dem Triebwerklauf am 26. Februar 2025 
 um 18:00 Uhr im Bremshaus.\n\nEuer Technischer Leiter\nBruno Kreuzer
DTSTART:20250226T180000
DTEND:20250226T193000
LOCATION:Bremshaus Buochs
ORGANIZER:MAILTO:Mirage-Verein Buochs <info@mirage-buochs.ch>
SUMMARY:Triebwerklauf
END:VEVENT
END:VCALENDAR
