BEGIN:VCALENDAR
VERSION:2.0
PRODID:-//Mirage-Verein Buochs//NONSGML kigkonsult.se iCalcreator 2.16.12//
METHOD:PUBLISH
X-MS-OLK-FORCEINSPECTOROPEN:TRUE
BEGIN:VEVENT
UID:20260422T124752CEST-96737PPHU1@Mirage-Verein Buochs
DTSTAMP:20260422T104752Z
DESCRIPTION:Am Samstag\, den 21. März\, steht der erste Arbeitstag des Jahr
 es an. Es werden wieder diverse Arbeiten durchgeführt.\nDamit wir den Anla
 ss optimal planen können\, bitten wir die Teilnehmer\, sich bis spätestens
  am Sonntag\, 15. März anzumelden.\n\nAnmeldung bitte über diese Umfrage:
 \nhttps://xoyondo.com/dp/9qz6ixn4x59qfed\n\nArbeitsbeginn ist wie immer um
  09.00 Uhr.
DTSTART:20260321T090000
DTEND:20260321T160000
LOCATION:Bremshaus
ORGANIZER:MAILTO:Mirage-Verein Buochs <info@mirage-buochs.ch>
SUMMARY:Arbeitstag 1/26 (Anmeldung aktiv)
END:VEVENT
END:VCALENDAR
