BEGIN:VCALENDAR
VERSION:2.0
PRODID:-//Mirage-Verein Buochs//NONSGML kigkonsult.se iCalcreator 2.16.12//
METHOD:PUBLISH
X-MS-OLK-FORCEINSPECTOROPEN:TRUE
BEGIN:VEVENT
UID:20260422T124825CEST-9622GrpEiD@Mirage-Verein Buochs
DTSTAMP:20260422T104825Z
DESCRIPTION:Am Dienstag\, 10. Februar findet wieder ein Triebwerklauf unser
 er Mirage R-2109 im Bremshaus Buochs statt. Ab 17.45 Uhr sind alle Mitglie
 der die Lust und Laune haben\, dazu eingeladen.
DTSTART:20260210T180000
DTEND:20260210T190000
LOCATION:Bremshaus Buochs
ORGANIZER:MAILTO:Mirage-Verein Buochs <info@mirage-buochs.ch>
SUMMARY:periodischer TW-Lauf
END:VEVENT
END:VCALENDAR
