BEGIN:VCALENDAR
VERSION:2.0
PRODID:-//Mirage-Verein Buochs//NONSGML kigkonsult.se iCalcreator 2.16.12//
METHOD:PUBLISH
X-MS-OLK-FORCEINSPECTOROPEN:TRUE
BEGIN:VEVENT
UID:20260422T140841CEST-0122D9UGIM@Mirage-Verein Buochs
DTSTAMP:20260422T120841Z
DESCRIPTION:Wie immer im Bremshaus
DTSTART:20180430T210000
DTEND:20180430T213000
LOCATION:Bremshaus
ORGANIZER:MAILTO:Mirage-Verein Buochs <info@mirage-buochs.ch>
SUMMARY:Standlauf
END:VEVENT
END:VCALENDAR
