BEGIN:VCALENDAR
VERSION:2.0
PRODID:-//Mirage-Verein Buochs//NONSGML kigkonsult.se iCalcreator 2.16.12//
METHOD:PUBLISH
X-MS-OLK-FORCEINSPECTOROPEN:TRUE
BEGIN:VEVENT
UID:20260422T140927CEST-9718mNjD0U@Mirage-Verein Buochs
DTSTAMP:20260422T120927Z
DESCRIPTION:Text Text\nLink auf doodle.ch\n 
DTSTART:20180831T090000
DTEND:20180831T170000
LOCATION:BUO (Bremshaus)
ORGANIZER:MAILTO:Mirage-Verein Buochs <info@mirage-buochs.ch>
SUMMARY:Arbeitstag
END:VEVENT
END:VCALENDAR
