BEGIN:VCALENDAR
VERSION:2.0
PRODID:-//Mirage-Verein Buochs//NONSGML kigkonsult.se iCalcreator 2.16.12//
METHOD:PUBLISH
X-MS-OLK-FORCEINSPECTOROPEN:TRUE
BEGIN:VEVENT
UID:20260422T140841CEST-4158Xx5xCj@Mirage-Verein Buochs
DTSTAMP:20260422T120841Z
DESCRIPTION:Am Samstag\, den 15. September\, steht ein weiterer Arbeitstag 
 an. Es werden wieder diverse Arbeiten durchgeführt.\n\nDamit wir den Anlas
 s optimal planen können\, bitten wir die Teilnehmer\, sich bis spätestens 
 am Sonntag\, 9. September anzumelden.\n\nBitte tragt euch einfach in diese
 r Doodle Umfrage ein https://doodle.com/poll/7bqzvr46irsfbx98\n\nArbeitsbe
 ginn ist wie immer um 09.00 Uhr.\n\nDieses Jahr präsentiert sich der MVB a
 n den Air & Space Days vom 12.10.2018 - 14.10.2018 im Verkehrshaus Reservi
 ert euch heute schon diesen Termin. Weitere Informationen folgen.\n
DTSTART:20180915T090000
DTEND:20180915T160000
LOCATION:Bremshaus
ORGANIZER:MAILTO:Mirage-Verein Buochs <info@mirage-buochs.ch>
SUMMARY:Arbeitstag
END:VEVENT
END:VCALENDAR
