BEGIN:VCALENDAR
VERSION:2.0
PRODID:-//Mirage-Verein Buochs//NONSGML kigkonsult.se iCalcreator 2.16.12//
METHOD:PUBLISH
X-MS-OLK-FORCEINSPECTOROPEN:TRUE
BEGIN:VEVENT
UID:20260422T140840CEST-6443ofn5Wv@Mirage-Verein Buochs
DTSTAMP:20260422T120840Z
DESCRIPTION:Militär Museum Wildegg\n\nDas Ziel unseres diesjährigen Herbsta
 usfluges am Samstag\, 10. November 2018. Wir treffen uns am späteren Vormi
 ttag in Wildegg (in der Nähe von Lenzburg)\, essen gemeinsam zu Mittag\, g
 eniessen dann eine Führung im eindrücklichen Militärmuseum mit interessant
 en Flugzeugen\, aber vor allem einer Fülle von Militärfahrzeugen aller Art
 . Als Sahnehäubchen sehen wir einen «Dia-Vortrag» von Erich Gandet mit dem
  Thema «Frühe Jets der CH-Flugwaffe» vor. Viele von uns werden im Museum u
 nd beim Vortrag «alte Bekannte» aus unserer Dienstzeit wiederfinden…. Dies
  ist ein «Terminstopper»! Details zu Örtlichkeiten und Ablauf folgen im Se
 ptember/Oktober 2018.\n
DTSTART:20181110T000000
DTEND:20181110T000000
LOCATION:Militärmuseum Wildegg
ORGANIZER:MAILTO:Mirage-Verein Buochs <info@mirage-buochs.ch>
SUMMARY:Herbstausflug
END:VEVENT
END:VCALENDAR
