BEGIN:VCALENDAR
VERSION:2.0
PRODID:-//Mirage-Verein Buochs//NONSGML kigkonsult.se iCalcreator 2.16.12//
METHOD:PUBLISH
X-MS-OLK-FORCEINSPECTOROPEN:TRUE
BEGIN:VEVENT
UID:20260422T140915CEST-91281t8ciP@Mirage-Verein Buochs
DTSTAMP:20260422T120915Z
DESCRIPTION:Wir treffen uns am Samstag\, 17. November ab 09:00h im Bremshau
 s zum letzten Arbeitstag des Jahres.\n\n Neben diversen Arbeiten die noch 
 erledigt werden müssen werden wir auch dieses Jahr unsere erfolgreichen Mi
 tgliederanlässe mit einem feinen Raclette abschliessen.\n\nDamit wir den A
 nlass optimal planen können\, bitten wir die Teilnehmer\, sich bis spätest
 ens am Sonntag\, 11. November anzumelden.\n\nBitte tragt euch einfach in d
 ieser Doodle Umfrage ein https://doodle.com/poll/8dyx8cpsqqpis6na\n \n
DTSTART:20181117T090000
DTEND:20181117T160000
LOCATION:Bremshaus
ORGANIZER:MAILTO:Mirage-Verein Buochs <info@mirage-buochs.ch>
SUMMARY:Arbeitstag
END:VEVENT
END:VCALENDAR
